BEGIN:VCALENDAR
VERSION:2.0
PRODID:-//WSV Lunegat - ECPv6.15.20//NONSGML v1.0//EN
CALSCALE:GREGORIAN
METHOD:PUBLISH
X-ORIGINAL-URL:https://www.wsvlunegat.nl
X-WR-CALDESC:Evenementen voor WSV Lunegat
REFRESH-INTERVAL;VALUE=DURATION:PT1H
X-Robots-Tag:noindex
X-PUBLISHED-TTL:PT1H
BEGIN:VTIMEZONE
TZID:Europe/Amsterdam
BEGIN:DAYLIGHT
TZOFFSETFROM:+0100
TZOFFSETTO:+0200
TZNAME:CEST
DTSTART:20220327T010000
END:DAYLIGHT
BEGIN:STANDARD
TZOFFSETFROM:+0200
TZOFFSETTO:+0100
TZNAME:CET
DTSTART:20221030T010000
END:STANDARD
BEGIN:DAYLIGHT
TZOFFSETFROM:+0100
TZOFFSETTO:+0200
TZNAME:CEST
DTSTART:20230326T010000
END:DAYLIGHT
BEGIN:STANDARD
TZOFFSETFROM:+0200
TZOFFSETTO:+0100
TZNAME:CET
DTSTART:20231029T010000
END:STANDARD
BEGIN:DAYLIGHT
TZOFFSETFROM:+0100
TZOFFSETTO:+0200
TZNAME:CEST
DTSTART:20240331T010000
END:DAYLIGHT
BEGIN:STANDARD
TZOFFSETFROM:+0200
TZOFFSETTO:+0100
TZNAME:CET
DTSTART:20241027T010000
END:STANDARD
BEGIN:DAYLIGHT
TZOFFSETFROM:+0100
TZOFFSETTO:+0200
TZNAME:CEST
DTSTART:20250330T010000
END:DAYLIGHT
BEGIN:STANDARD
TZOFFSETFROM:+0200
TZOFFSETTO:+0100
TZNAME:CET
DTSTART:20251026T010000
END:STANDARD
END:VTIMEZONE
BEGIN:VEVENT
DTSTART;TZID=Europe/Amsterdam:20240315T200000
DTEND;TZID=Europe/Amsterdam:20240315T220000
DTSTAMP:20260422T192715
CREATED:20231213T191206Z
LAST-MODIFIED:20231221T092230Z
UID:4873-1710532800-1710540000@www.wsvlunegat.nl
SUMMARY:Bindingsavond met spannende film
DESCRIPTION:Na de rustige Wadden-film vorig jaar dit keer een spannender verhaal. Over Jessica Watson\, de “Australische Laura Dekker”\, die op haar 16e solo non-stop rond de wereld zeilde. Ongetwijfeld genoeg stof tot gezellig napraten! \nU hoeft zich voor deze avond niet van tevoren op te geven.
URL:https://www.wsvlunegat.nl/agenda/filmavond-2024/
LOCATION:Jachthaven Lunegat\, Kwelderweg 1\, Dokkumer Nieuwe Zijlen\, Groningen\, 9291 MD\, Nederland
ATTACH;FMTTYPE=image/jpeg:https://www.wsvlunegat.nl/wp-content/uploads/2023/12/AAAABbRbeearHBr6OEvq6UMWDcBzzp95J3wY5iQL8Ff6ebMfu0mwKCQ-FLFmPOaDpreNcktWBi_tat5ntFbSjAS65SUAD-dHo9yeA582.jpg
END:VEVENT
BEGIN:VEVENT
DTSTART;TZID=Europe/Amsterdam:20240302T093000
DTEND;TZID=Europe/Amsterdam:20240302T120000
DTSTAMP:20260422T192715
CREATED:20231213T190311Z
LAST-MODIFIED:20240205T130746Z
UID:4869-1709371800-1709380800@www.wsvlunegat.nl
SUMMARY:Cursus reanimatie
DESCRIPTION:Bij voldoende belangstelling willen wij de cursus weer mogelijk maken. \nU leert een hartstilstand herkennen\, hartmassage toepassen\, mond-op-mond beademing geven en de AED te gebruiken. \nHet gaat hierbij om een officiële cursus. Dit is ook de gelegenheid voor leden die eerder hebben deelgenomen\, hun certificaat te actualiseren.  \nHerhaling elk jaar is nodig om de vaardigheid te houden. \nDe kosten bedragen €15 voor leden/ partners en – bij voldoende ruimte – voor niet-leden €25 te voldoen op de cursusdag. \nAanmelden tot 20 februari via onderstaand formulier i.v.m. het certificaat 
URL:https://www.wsvlunegat.nl/agenda/cursus-reanimatie/
LOCATION:Jachthaven Lunegat\, Kwelderweg 1\, Dokkumer Nieuwe Zijlen\, Groningen\, 9291 MD\, Nederland
ATTACH;FMTTYPE=image/gif:https://www.wsvlunegat.nl/wp-content/uploads/2023/12/CPR.gif
END:VEVENT
BEGIN:VEVENT
DTSTART;TZID=Europe/Amsterdam:20240216T200000
DTEND;TZID=Europe/Amsterdam:20240216T220000
DTSTAMP:20260422T192715
CREATED:20231214T103823Z
LAST-MODIFIED:20240205T130657Z
UID:4886-1708113600-1708120800@www.wsvlunegat.nl
SUMMARY:Workshop splitsen van modern touwwerk
DESCRIPTION:Pierre Modderman en zoon Job van Modderman Maritiem/Sailing and Rigging Service (voorheen Molenaar Grou) verzorgen deze workshop. \nHet is een echte doe-avond waar\, na een korte inleiding\, iedereen zelf praktisch bezig gaat. Er is oefenmateriaal beschikbaar. Deze avond staat het maken van een oogsplits in moderne lijn centraal. Met gebruik van spitsnaalden. \nDe praktische benadering van Pierre en zoon Job staan borg voor een leerzame en gezellige avond! \nWel graag even aanmelden voor 12 februari via onderstaand formulier i.v.m. aanschaf materiaal
URL:https://www.wsvlunegat.nl/agenda/workshop-splitsen-van-modern-touwwerk/
LOCATION:Jachthaven Lunegat\, Kwelderweg 1\, Dokkumer Nieuwe Zijlen\, Groningen\, 9291 MD\, Nederland
ATTACH;FMTTYPE=image/jpeg:https://www.wsvlunegat.nl/wp-content/uploads/2023/12/touw-splitsen.jpg
END:VEVENT
BEGIN:VEVENT
DTSTART;TZID=Europe/Amsterdam:20240105T170000
DTEND;TZID=Europe/Amsterdam:20240105T200000
DTSTAMP:20260422T192715
CREATED:20231120T220416Z
LAST-MODIFIED:20231213T192332Z
UID:4859-1704474000-1704484800@www.wsvlunegat.nl
SUMMARY:Nieuwjaarsreceptie Jachthaven Lunegat
DESCRIPTION:Nieuwjaarsreceptie van de haven op vrijdag 5 januari.
URL:https://www.wsvlunegat.nl/agenda/nieuwjaarsreceptie-jachthaven-lunegat/
LOCATION:Jachthaven Lunegat\, Kwelderweg 1\, Dokkumer Nieuwe Zijlen\, Groningen\, 9291 MD\, Nederland
ATTACH;FMTTYPE=image/jpeg:https://www.wsvlunegat.nl/wp-content/uploads/2022/11/oliebollen.jpg
END:VEVENT
BEGIN:VEVENT
DTSTART;TZID=Europe/Amsterdam:20231117T200000
DTEND;TZID=Europe/Amsterdam:20231117T220000
DTSTAMP:20260422T192715
CREATED:20231005T120722Z
LAST-MODIFIED:20231107T132343Z
UID:4828-1700251200-1700258400@www.wsvlunegat.nl
SUMMARY:Algemene ledenvergadering 2023
DESCRIPTION:Wij nodigen jullie hierbij uit voor onze algemene ledenvergadering. We hebben weer plannen voor 2024. Die willen we graag met jullie bespreken. Wat ons betreft graag tot ziens op 17 november.  \nDe algemene ledenvergadering wordt gehouden op vrijdag 17 november 2023 in de kantine van jachthaven Lunegat. Aanvang 20.00 uur. \n\nOpening en mededelingen\nVerslag van de ledenvergadering 2022 (*)\nJaarverslag secretaris over 2023 (*)\nFinancieel verslag penningmeester en de resultaten- en jaarrekening 2023 (*)\nVerslag kascommissie door Bert Meier en Pieter van der Ham\nBenoeming nieuw lid kascommissie\nReglementair aftredend: Bert Meijer\nBegroting 2024 (*) en vaststelling contributie 2024\nVoorstel bestuur: De contributie blijft ook over 2024 €35. (al sinds 2010 gehouden op dit bedrag!)\nBestuursverkiezing\n\nEls den Engelsman is reglementair aftredend en herkiesbaar.\nHet bestuur stelt voor haar opnieuw te benoemen.\nVolgens de statuten kan ook een groep van 10 of meer leden tot uiterlijk 2 dagen voor de aanvang van de vergadering een schriftelijke voordracht doen bij het bestuur voorzien van een door de kandidaat getekende bereidverklaring.\n\n\nWSVB\, de werkgroep Lauwersmeer\nVerslag van de zaken waar we ons mee bezig houden.\nActiviteitenplan 2024\nOnderstaande activiteiten zijn in overweging. Op de vergadering zullen we de onderwerpen bespreken om tot een keuze te komen voor een interessant programma. Aanvullende suggesties zijn van harte welkom. \n\nNieuwjaarsreceptie (Rob en Gea Meijer) op vrijdag 5 januari\nBindingsavond met watersportfilm  \nReanimatiecursus (verlenging + nieuw) \nTocht naar Schiermonnikoog (in 2023 afgelast i.v.m. weersomstandigheden)\nBoot picknick op het Lauwersmeer\nPubquiz in kantine \nBezoek van Team Varen doe je Samen \nReisverslag van een van de leden \n Splitsen modern touwwerk \nBezoek Zwettehûs (centrale brugbediening)\nOverige suggesties of ideeën?\n\n\nRondvraag\nGezellig samenzijn met hapje en drankje aangeboden door de vereniging\n\n(*) = ter vergadering aanwezig en vanaf 13 november hier te downloaden
URL:https://www.wsvlunegat.nl/agenda/algemene-ledenvergadering-2023/
LOCATION:Jachthaven Lunegat\, Kwelderweg 1\, Dokkumer Nieuwe Zijlen\, Groningen\, 9291 MD\, Nederland
END:VEVENT
BEGIN:VEVENT
DTSTART;TZID=Europe/Amsterdam:20231007T170000
DTEND;TZID=Europe/Amsterdam:20231007T220000
DTSTAMP:20260422T192715
CREATED:20221123T134102Z
LAST-MODIFIED:20230827T142529Z
UID:4565-1696698000-1696716000@www.wsvlunegat.nl
SUMMARY:Stamppot-buffet met aperitief
DESCRIPTION:Vanaf 17.00 uur aperitief in de kantine op de haven. \nVanaf 18.00 uur stamppotbuffet en gezellig samenzijn. \nKeuze uit: boerenkool\, hutspot\, zuurkool met garnituren;\nEn natuurlijk: ijs na! \nToegangskaarten kunnen van 12 september t/m 1 oktober gekocht worden bij Rob op de haven. \nAll-in prijs: \n\nLeden €15\nIntroducés €20\nKinderen t/m 12 jaar €10\n\nWij zien uit naar een gezellige avond en hopen velen van u te mogen begroeten. \nMet hartelijke groet\,\nTiemen Cloo\, namens het bestuur
URL:https://www.wsvlunegat.nl/agenda/stamppot-buffet/
LOCATION:Jachthaven Lunegat\, Kwelderweg 1\, Dokkumer Nieuwe Zijlen\, Groningen\, 9291 MD\, Nederland
ATTACH;FMTTYPE=image/jpeg:https://www.wsvlunegat.nl/wp-content/uploads/2018/08/Ouderwetse-boerenkoolstamppot.jpg
END:VEVENT
BEGIN:VEVENT
DTSTART;TZID=Europe/Amsterdam:20230916T150000
DTEND;TZID=Europe/Amsterdam:20230916T190000
DTSTAMP:20260422T192715
CREATED:20221123T133834Z
LAST-MODIFIED:20230902T152910Z
UID:4561-1694876400-1694890800@www.wsvlunegat.nl
SUMMARY:Bootpicknick op het Lauwersmeer
DESCRIPTION:De bedoeling is dat we ieder met de eigen boot naar een afgesproken plek varen en hier gezamenlijk in kleine ‘boot-groepjes’ voor anker gaan. Iedereen neemt een eigen favoriet gerecht mee en dat delen we met de schepen die bij elkaar liggen. Een hapje hier\, een drankje daar en dan wel graag een zonnetje erbij. \nDan moet het een gezellig samenzijn worden op het water! Als u zich aanmeldt via de website\, krijgt u per mail nadere aanwijzingen die in augustus ook op de website komen te staan. \nUiterlijk 9 september opgeven via onderstaand formulier!
URL:https://www.wsvlunegat.nl/agenda/gezamenlijk-voor-anker-op-het-lauwersmeer/
LOCATION:Groningen
END:VEVENT
BEGIN:VEVENT
DTSTART;TZID=Europe/Amsterdam:20230519T180000
DTEND;TZID=Europe/Amsterdam:20230521T160000
DTSTAMP:20260422T192715
CREATED:20221123T133603Z
LAST-MODIFIED:20230511T130558Z
UID:4559-1684519200-1684684800@www.wsvlunegat.nl
SUMMARY:Tocht naar Schiermonnikoog
DESCRIPTION:Een mooie tocht voor leden\, hun partners en gezinsleden. Ook een prima gelegenheid voor beginnende wadvaarders om onder begeleiding een tocht op zout water te maken en elementaire zaken te leren. \nOp vrijdagavond krijgt u tijdens de briefing praktische tips en uitleg over de vaarroute\, de betonning\, getijstromen\, de vertrektijden\, etc.\nDeelnemers moeten wel hun eigen zeekaart meebrengen: Waddenzee Oostblad. Ook moet u beschikken over een goedwerkende marifoon en goed ankergerei. \nBij goed weer is de tocht op zaterdag en zondag. Begin mei krijgen de deelnemers bericht met nadere gegevens over de briefing in de kantine\, vertrektijden\, etc. \nUiterlijk 16 mei opgeven via onderstaand formulier! \nExcursie naar het Vredenhof\nOp het eiland hebben we een boeiende excursie naar het Vredenhof geregeld. Op de briefing peilen we de belangstelling hiervoor van de deelnemers. \nVerscholen in het groen aan de Reddingsweg op Schiermonnikoog ligt het oorlogs- en drenkelingenbegraafplaats Vredenhof. Een mooie naam voor een bescheiden hof met veel geschiedenis. Op initiatief van een aantal eilanders werd het kerkhof rond 1920 aangelegd en in gebruik genomen.\nOp het Vredenhof liggen drenkelingen en oorlogsslachtoffers uit beide wereldoorlogen\, afkomstig uit onder andere Australië\, Canada\, Frankrijk\, Duitsland\, Groot-Brittannië en Polen. \nWij zijn als WSV Lunegat uitgenodigd om zaterdag 20 mei 15:00 een exclusieve excursie te beleven op deze begraafplaats\, geleid door Wyb Jan Groendijk\, die de begraafplaats beheert. \nMet toewijding en liefde heeft hij zich zorgvuldig verdiept in de geschiedenissen van wie daar liggen en heeft hij dankzij zijn speurwerk zelfs familie van hen gevonden. Een paar jaar geleden heeft de Britse regering daar postuum alsnog met militaire eer een tot dan ongeïdentificeerde Brit begraven. \nWyb Jan weet zeer boeiend te vertellen over de begraafplaats\, en na hem daarover gehoord te hebben\, valt het niet mee dit bijzondere plekje van Schiermonnikoog ooit weer te vergeten.
URL:https://www.wsvlunegat.nl/agenda/tocht-naar-schiermonnikoog/
LOCATION:Groningen
ATTACH;FMTTYPE=image/jpeg:https://www.wsvlunegat.nl/wp-content/uploads/2020/05/P8111033.jpg
END:VEVENT
BEGIN:VEVENT
DTSTART;TZID=Europe/Amsterdam:20230414T200000
DTEND;TZID=Europe/Amsterdam:20230414T220000
DTSTAMP:20260422T192715
CREATED:20221123T134001Z
LAST-MODIFIED:20230414T110731Z
UID:4563-1681502400-1681509600@www.wsvlunegat.nl
SUMMARY:Communicatie en navigatie aan boord
DESCRIPTION:Op deze verenigingsavond gaan we met elkaar kennis en ideeën uitwisselen. Er is veel ervaring bij onze leden en we kunnen van elkaar veel opsteken. “Halen en Brengen” noemen we het. \nEnkele onderwerpen zijn alvast: \n\nWij zetten deze avond in met vraagstukken op het gebied van de nieuwe elektronica en navigatiemiddelen:\nDit jaar wijzigen bijvoorbeeld een aantal marifoonkanalen die niet op alle marifonen beschikbaar zijn: hoe kun je de marifoon aanpassen en is dit voor jou nodig.\nUitluisteren op de marifoon; doet u dat of laat u dat maar?\nWelk kanaal staat altijd open op het binnenwater en welk kanaal staat open op zee of op de verkeergeleidingssector?\nHeeft u AIS en zo ja waarom dan.\nStaat de AIS altijd aan en zo nee\, waarom dan niet.\nHoe lost u bij zonlicht de slechte beeldkwaliteit van een tabletscherm op?\nHeeft u een vaste plotter en hoe bevalt die?\nWat zijn vooral de voordelen van de elektronische kaarten en de elektronische apps?\n\nZo maar wat vragen en ideeën. Wat we op deze avond hopen te bereiken is dat we elkaar goed kunnen bijpraten over de dagelijkse beslommeringen rond de niet meer weg te denken hulpmiddelen. \nUiteraard is het een open avond en kan het ook gaan over de aanpak van een timmerwerk\, schilderklus\, tuigage\, kaarten\, boekwerken etc. \nKortom: Dòòr de leden\, vòòr de leden\, waarbij we altijd iets van elkaar kunnen opsteken. En laten we de gezelligheid en het plezier van samenkomen en weer wat bijpraten niet vergeten. Hebt u vooraf opmerkingen of vragen dan horen we dat graag. \nGraag wel even uiterlijk 12 april opgeven via deze pagina. \n 
URL:https://www.wsvlunegat.nl/agenda/elektronica-aan-boord/
LOCATION:Jachthaven Lunegat\, Kwelderweg 1\, Dokkumer Nieuwe Zijlen\, Groningen\, 9291 MD\, Nederland
END:VEVENT
BEGIN:VEVENT
DTSTART;TZID=Europe/Amsterdam:20230304T093000
DTEND;TZID=Europe/Amsterdam:20230304T120000
DTSTAMP:20260422T192715
CREATED:20221123T133010Z
LAST-MODIFIED:20221222T164708Z
UID:4556-1677922200-1677931200@www.wsvlunegat.nl
SUMMARY:Reanimatie-cursus
DESCRIPTION:Een hartstilstand komt altijd onverwacht. Het overkomt elk jaar 15.000 à 16.000 Nederlanders. Zeker als u op uw boot bent op een plek die niet zomaar te bereiken is\, is het belangrijk dat u weet wat u kunt doen. Hulp bieden binnen de eerste 6 minuten na een hartstilstand is cruciaal en kan een leven redden. Door het volgen van een reanimatiecursus\, bent u voorbereid.  U leert een hartstilstand herkennen\, hartmassage toepassen en mond-op-mond beademing geven en ook de AED te gebruiken. \nHet gaat hierbij om een officiële cursus. Dit is tevens de gelegenheid voor leden die vorig jaar hebben deelgenomen\, hun certificaat te actualiseren. Herhaling elk jaar is nodig om de vaardigheid te houden. \nDe kosten bedragen €10 voor leden/ partners en voor niet-leden €17.50 te voldoen op de cursusdag. \nUiterlijk 28 februari opgeven via onderstaand formulier! Per persoon afzonderlijk aanmelden i.v.m. het te ontvangen certificaat. Wilt u daarbij in het opmerkingen-veld de geboortedatum invullen? (i.v.m. het te verstrekken certificaat)
URL:https://www.wsvlunegat.nl/agenda/reanimatie-cursus/
LOCATION:Jachthaven Lunegat\, Kwelderweg 1\, Dokkumer Nieuwe Zijlen\, Groningen\, 9291 MD\, Nederland
ATTACH;FMTTYPE=image/gif:https://www.wsvlunegat.nl/wp-content/uploads/2017/05/CPR.gif
END:VEVENT
BEGIN:VEVENT
DTSTART;TZID=Europe/Amsterdam:20230224T200000
DTEND;TZID=Europe/Amsterdam:20230224T220000
DTSTAMP:20260422T192715
CREATED:20221123T132650Z
LAST-MODIFIED:20221219T203543Z
UID:4554-1677268800-1677276000@www.wsvlunegat.nl
SUMMARY:Filmavond
DESCRIPTION:Een film over de kwetsbare relatie tussen mens en natuur. Over getijden\, cycli en contrasten\, tegen een decor van mist\, wind\, water\, het constant veranderend licht en de altijd aanwezige horizon. \nJe wordt meegenomen naar de magische wereld van het Waddengebied dat zich uitstrekt over Nederland\, Duitsland en Denemarken. Het unieke natuurgebied is een van de laatst overgebleven grootschalige\, bij eb droogvallende ecosystemen\, en prijkt op de werelderfgoedlijst van Unesco. Met prachtige beelden. \nNa de film is er ruim de gelegenheid om nog even gezellig na te praten. \nU hoeft zich voor deze avond niet van tevoren op te geven.
URL:https://www.wsvlunegat.nl/agenda/filmavond/
LOCATION:Jachthaven Lunegat\, Kwelderweg 1\, Dokkumer Nieuwe Zijlen\, Groningen\, 9291 MD\, Nederland
END:VEVENT
BEGIN:VEVENT
DTSTART;TZID=Europe/Amsterdam:20230114T160000
DTEND;TZID=Europe/Amsterdam:20230114T190000
DTSTAMP:20260422T192715
CREATED:20221119T210651Z
LAST-MODIFIED:20221219T203410Z
UID:4438-1673712000-1673722800@www.wsvlunegat.nl
SUMMARY:Nieuwsjaarsreceptie
DESCRIPTION:Van Rob en Gea Meijer.
URL:https://www.wsvlunegat.nl/agenda/nieuwsjaarsreceptie/
LOCATION:Jachthaven Lunegat\, Kwelderweg 1\, Dokkumer Nieuwe Zijlen\, Groningen\, 9291 MD\, Nederland
ATTACH;FMTTYPE=image/jpeg:https://www.wsvlunegat.nl/wp-content/uploads/2022/11/oliebollen.jpg
END:VEVENT
END:VCALENDAR